BEGIN:VCALENDAR
VERSION:2.0
PRODID:-//NITOP - ECPv6.10.0//NONSGML v1.0//EN
CALSCALE:GREGORIAN
METHOD:PUBLISH
X-WR-CALNAME:NITOP
X-ORIGINAL-URL:https://nitop.at
X-WR-CALDESC:Veranstaltungen für NITOP
REFRESH-INTERVAL;VALUE=DURATION:PT1H
X-Robots-Tag:noindex
X-PUBLISHED-TTL:PT1H
BEGIN:VTIMEZONE
TZID:UTC
BEGIN:STANDARD
TZOFFSETFROM:+0000
TZOFFSETTO:+0000
TZNAME:UTC
DTSTART:20230101T000000
END:STANDARD
END:VTIMEZONE
BEGIN:VEVENT
DTSTART;VALUE=DATE:20231018
DTEND;VALUE=DATE:20231021
DTSTAMP:20260423T090858
CREATED:20221103T125051Z
LAST-MODIFIED:20241028T142950Z
UID:749-1697587200-1697846399@nitop.at
SUMMARY:54. NITOP Treffen
DESCRIPTION:Herbsttreffen 2023\n  \nDer Termin für das Treffen im Herbst 2023 steht fest! \nHier findet Ihr das Programm. \n  \nGetagt wird dieses Mal in Mandarfen im Hotel Wildspitze. \n  \nWir freuen uns schon auf euch!
URL:https://nitop.at/event/54-nitop-treffen/
LOCATION:Hotel Wildspitze\, Mandarfen 46\, Plangeroß\, 6481\, Österreich
END:VEVENT
END:VCALENDAR