BEGIN:VCALENDAR
VERSION:2.0
PRODID:-//NITOP - ECPv6.10.0//NONSGML v1.0//EN
CALSCALE:GREGORIAN
METHOD:PUBLISH
X-ORIGINAL-URL:https://nitop.at
X-WR-CALDESC:Veranstaltungen für NITOP
REFRESH-INTERVAL;VALUE=DURATION:PT1H
X-Robots-Tag:noindex
X-PUBLISHED-TTL:PT1H
BEGIN:VTIMEZONE
TZID:UTC
BEGIN:STANDARD
TZOFFSETFROM:+0000
TZOFFSETTO:+0000
TZNAME:UTC
DTSTART:20220101T000000
END:STANDARD
END:VTIMEZONE
BEGIN:VEVENT
DTSTART;VALUE=DATE:20220930
DTEND;VALUE=DATE:20221002
DTSTAMP:20260424T081300
CREATED:20220713T113758Z
LAST-MODIFIED:20241028T142856Z
UID:615-1664496000-1664668799@nitop.at
SUMMARY:36. Jahrestagung der ÖANCK
DESCRIPTION:Neurotrauma\nwird das Hauptaugenmerk der nächsten Jahrestagung sein. Es wartet ein interessantes Programm auf Euch\, welches auch interdisziplinäre Themen bis hin zur Reha beinhaltet. \n  \nDas Programm findet Ihr hier: \nProgramm 36. Jahrestagung \n  \nBitte beachtet\, dass eine Anmeldung ausschließlich über folgende E-Mail Adresse möglich ist: office@oeanck.at !
URL:https://nitop.at/event/36-jahrestagung-der-oeanck/
LOCATION:Hotel Savoyen Wien\, Rennweg 16\, Wien\, Wien\, 1030\, Österreich
END:VEVENT
END:VCALENDAR